BEGIN:VCALENDAR
VERSION:2.0
PRODID:-//CERN//INDICO//EN
BEGIN:VEVENT
SUMMARY:weekly group meeting
DTSTART;VALUE=DATE-TIME:20260403T053000Z
DTEND;VALUE=DATE-TIME:20260403T090000Z
DTSTAMP;VALUE=DATE-TIME:20260420T202200Z
UID:indico-event-29266@indico.ihep.ac.cn
DESCRIPTION:https://indico.ihep.ac.cn/event/29266/
URL:https://indico.ihep.ac.cn/event/29266/
END:VEVENT
END:VCALENDAR
