BEGIN:VCALENDAR
VERSION:2.0
PRODID:-//CERN//INDICO//EN
BEGIN:VEVENT
SUMMARY:weekly group meeting
DTSTART;VALUE=DATE-TIME:20260410T053000Z
DTEND;VALUE=DATE-TIME:20260410T090000Z
DTSTAMP;VALUE=DATE-TIME:20260420T202200Z
UID:indico-event-29325@indico.ihep.ac.cn
DESCRIPTION:https://indico.ihep.ac.cn/event/29325/
URL:https://indico.ihep.ac.cn/event/29325/
END:VEVENT
END:VCALENDAR
